BEGIN:VCALENDAR
VERSION:2.0
PRODID:-//111 Minna Gallery &amp; Event Space - ECPv6.15.20//NONSGML v1.0//EN
CALSCALE:GREGORIAN
METHOD:PUBLISH
X-WR-CALNAME:111 Minna Gallery &amp; Event Space
X-ORIGINAL-URL:https://111minnagallery.com
X-WR-CALDESC:Events for 111 Minna Gallery &amp; Event Space
REFRESH-INTERVAL;VALUE=DURATION:PT1H
X-Robots-Tag:noindex
X-PUBLISHED-TTL:PT1H
BEGIN:VTIMEZONE
TZID:America/Los_Angeles
BEGIN:DAYLIGHT
TZOFFSETFROM:-0800
TZOFFSETTO:-0700
TZNAME:PDT
DTSTART:20250309T100000
END:DAYLIGHT
BEGIN:STANDARD
TZOFFSETFROM:-0700
TZOFFSETTO:-0800
TZNAME:PST
DTSTART:20251102T090000
END:STANDARD
BEGIN:DAYLIGHT
TZOFFSETFROM:-0800
TZOFFSETTO:-0700
TZNAME:PDT
DTSTART:20260308T100000
END:DAYLIGHT
BEGIN:STANDARD
TZOFFSETFROM:-0700
TZOFFSETTO:-0800
TZNAME:PST
DTSTART:20261101T090000
END:STANDARD
BEGIN:DAYLIGHT
TZOFFSETFROM:-0800
TZOFFSETTO:-0700
TZNAME:PDT
DTSTART:20270314T100000
END:DAYLIGHT
BEGIN:STANDARD
TZOFFSETFROM:-0700
TZOFFSETTO:-0800
TZNAME:PST
DTSTART:20271107T090000
END:STANDARD
END:VTIMEZONE
BEGIN:VEVENT
DTSTART;TZID=America/Los_Angeles:20260313T180000
DTEND;TZID=America/Los_Angeles:20260313T220000
DTSTAMP:20260423T163046
CREATED:20260309T220646Z
LAST-MODIFIED:20260309T220736Z
UID:10006163-1773424800-1773439200@111minnagallery.com
SUMMARY:PolaCon 2026 Welcoming Party
DESCRIPTION:PolaCon Bay Area is the ultimate 3-day instant film photography festival. If you love Polaroid photograpy or FujiFilm Instax\, join us in SF for immersive workshops\, guided photowalks\, artist talks\, and gear demos. Whether a pro or enthusiast\, come celebrate\, learn\, and connect with the instant film community. \nFor more information\, click here.
URL:https://111minnagallery.com/event/polacon-2026-welcoming-party/
LOCATION:Entire Venue\, 111 Minna Street\, San Francisco\, CA\, 94105\, United States
CATEGORIES:Art Event,Entire Venue
ATTACH;FMTTYPE=image/jpeg:https://111minnagallery.com/wp-content/uploads/2026/03/polacon_2026_minna.jpeg
GEO:37.7873057;-122.3993712
X-APPLE-STRUCTURED-LOCATION;VALUE=URI;X-ADDRESS=Entire Venue 111 Minna Street San Francisco CA 94105 United States;X-APPLE-RADIUS=500;X-TITLE=111 Minna Street:geo:-122.3993712,37.7873057
END:VEVENT
END:VCALENDAR