BEGIN:VCALENDAR
VERSION:2.0
PRODID:-//111 Minna Gallery &amp; Event Space - ECPv6.15.20//NONSGML v1.0//EN
CALSCALE:GREGORIAN
METHOD:PUBLISH
X-ORIGINAL-URL:https://111minnagallery.com
X-WR-CALDESC:Events for 111 Minna Gallery &amp; Event Space
REFRESH-INTERVAL;VALUE=DURATION:PT1H
X-Robots-Tag:noindex
X-PUBLISHED-TTL:PT1H
BEGIN:VTIMEZONE
TZID:America/Los_Angeles
BEGIN:DAYLIGHT
TZOFFSETFROM:-0800
TZOFFSETTO:-0700
TZNAME:PDT
DTSTART:20240310T100000
END:DAYLIGHT
BEGIN:STANDARD
TZOFFSETFROM:-0700
TZOFFSETTO:-0800
TZNAME:PST
DTSTART:20241103T090000
END:STANDARD
BEGIN:DAYLIGHT
TZOFFSETFROM:-0800
TZOFFSETTO:-0700
TZNAME:PDT
DTSTART:20250309T100000
END:DAYLIGHT
BEGIN:STANDARD
TZOFFSETFROM:-0700
TZOFFSETTO:-0800
TZNAME:PST
DTSTART:20251102T090000
END:STANDARD
BEGIN:DAYLIGHT
TZOFFSETFROM:-0800
TZOFFSETTO:-0700
TZNAME:PDT
DTSTART:20260308T100000
END:DAYLIGHT
BEGIN:STANDARD
TZOFFSETFROM:-0700
TZOFFSETTO:-0800
TZNAME:PST
DTSTART:20261101T090000
END:STANDARD
END:VTIMEZONE
BEGIN:VEVENT
DTSTART;TZID=America/Los_Angeles:20250903T180000
DTEND;TZID=America/Los_Angeles:20250903T200000
DTSTAMP:20260424T025556
CREATED:20250902T204422Z
LAST-MODIFIED:20250902T205239Z
UID:10003124-1756922400-1756929600@111minnagallery.com
SUMMARY:Refractions of Place & Presence
DESCRIPTION:Join us for a vibrant exhibition celebrating the intersection of performance\, memory\, and global perspective through the work of two multidisciplinary artists: Yingri Guan and Cristina Miraflor Ibarra. \nPresented by: Presidio Theatre x 111 Minna Gallery\nOpening Reception + Artist Talk\nWednesday\, September 3\n6:00 PM – 8:00 PM\nThe Presidio Theater\, 99 Moraga Ave – The Presidio \nThis event is free to attend with RSVP. \nRSVP HERE \nYingri Guan weaves technology\, design\, and generative form into stunning visual experiences. With roots in China\, Singapore\, and the Pacific Northwest\, her work explores patterns—both natural and human-made—that connect cultures across borders. Through digital fabrication and an inquisitive lens\, Yingri invites viewers to see the invisible threads that shape our world. \nCristina Miraflor Ibarra captures the immediacy of lived experience with fluid watercolors rendered in real-time. Her art thrives on movement and observation\, often painted live during performances with just ink\, water\, and a portable kit. Grounded in Filipino heritage and Bay Area rhythms\, her pieces echo with song\, memory\, and the joy of the everyday sublime. \nTogether\, Guan and Ibarra offer distinct yet harmonious approaches to how art can reflect\, respond to\, and reframe the world around us. \nCelebrate with us at a free\, in-person reception featuring drinks\, conversation\, and an Artist 2 Artist Talk — a special dialogue between Cristina & Yingri\, moderated by returning artist Rhonel Roberts\, whose own work opened this series. This is a chance to hear the artists discuss their process\, their paths\, and the shared landscapes that inspire them. \nThis event is free to attend with RSVP. \nRSVP HERE \nFollowing the opening\, the exhibition will remain on display through the summer during Presidio Theatre show nights\, accessible with ticketed entry.
URL:https://111minnagallery.com/event/refractions-of-place-presence/
LOCATION:Presidio Theatre\, 99 Moraga Avenue\, San Franicisco\, 94129\, United States
CATEGORIES:Art Event,Off-site event,Public Event,RSVP
ATTACH;FMTTYPE=image/jpeg:https://111minnagallery.com/wp-content/uploads/2025/09/6ad5490442bbcf8c7edcfaf31818f6d59340f921.jpg
END:VEVENT
BEGIN:VEVENT
DTSTART;TZID=America/Los_Angeles:20250912T170000
DTEND;TZID=America/Los_Angeles:20250912T233000
DTSTAMP:20260424T025556
CREATED:20250825T234536Z
LAST-MODIFIED:20250906T224413Z
UID:10003123-1757696400-1757719800@111minnagallery.com
SUMMARY:Bridge Studio Collective Closing Party
DESCRIPTION:If you missed the Bridge Studio Collective opening\, Sketch Thursday x Artist Q&A\, then next Friday is your final chance to see the show and meet the artists in person! If that’s not temping enough\, BSC member David Choong Lee will be providing his unique musical entertainment! \n \n@davidchoonglee \nCome Check ‘Em Out! \n‘THE BRIDGE STUDIO COLLECTIVE’\nCurated by Robert Bowen\n@bowenstuff \nThe Bridge Studio Collective is an eclectic group of artists working across a variety of disciplines. Located at 333 Bryant Street. The collective is composed of painters\, illustrators\, paper sculptors\, textile artists\, and stylist/ designers; each member has developed a distinctive style and mastery of their craft. \n@bridgestudiocollective \nBSC Featured Artists: \nRobert Bowen – @bowenstuff\nDaryll Peirce – @daryllpeirce\nDavid Choong Lee – @davidchoonglee\nAlice Koswara – @alicekoz\nChad Hasegawa – @chadhasegawa\nDanielChen – @danielchenart\nHiericbro – @hiericbro\nJillian Knox – @jjoules\nAdam Feibelman – @adam5100\nJon Stich – @jonstich\nJennifer Banzaca – @jennifer.banzaca\nLeon Loucheur – @loucheur\nLisa Kairos – @lkairos
URL:https://111minnagallery.com/event/bridge-studio-collective-closing-party/
LOCATION:Entire Venue\, 111 Minna Street\, San Francisco\, CA\, 94105\, United States
CATEGORIES:Art Event,Entire Venue,Exhibition,Public Event
ATTACH;FMTTYPE=image/jpeg:https://111minnagallery.com/wp-content/uploads/2025/08/ClosingPartySep12thFront.jpeg
GEO:37.7873057;-122.3993712
X-APPLE-STRUCTURED-LOCATION;VALUE=URI;X-ADDRESS=Entire Venue 111 Minna Street San Francisco CA 94105 United States;X-APPLE-RADIUS=500;X-TITLE=111 Minna Street:geo:-122.3993712,37.7873057
END:VEVENT
BEGIN:VEVENT
DTSTART;TZID=America/Los_Angeles:20250919T170000
DTEND;TZID=America/Los_Angeles:20250919T230000
DTSTAMP:20260424T025556
CREATED:20250710T213110Z
LAST-MODIFIED:20250805T195803Z
UID:10003034-1758301200-1758322800@111minnagallery.com
SUMMARY:One Time Talker: Opening Night Celebration
DESCRIPTION:Robert Hightower’s breakout solo show\, where silence ends\, trauma speaks\, and the truth shows up raw\, honest\, and loud in paint. \nAfter nearly three years away from solo exhibitions\, Robert Hightower returns with his most personal body of work to date. One Time Talker is a visual reckoning—an exploration of silence\, survival\, and the emotional weight of what goes unsaid. These paintings are not just art objects; they are confessions. Each one traces back to moments where Robert learned to stay quiet\, often through force\, fear\, or the belief that speaking up came with consequences.\n \nThe title itself is rooted in truth. “One Time Talker” was the name of a wooden paddle used as discipline in his childhood\, a tool that made it clear: you only get told once. That legacy of silence lingers in the work\, but so does the resistance. This isn’t a tidy comeback. It’s raw\, unfiltered\, and urgent. For anyone who’s ever been told to hold it in\, this show is an invitation to let it out. This is what it looks like when silence finally breaks. \nThis is a two-part event: \n\nPart 1: Opening Night Celebration — September 19\, 5 PM to 11 PM\nAn evening to experience the full collection\, connect\, and celebrate the launch of this deeply personal show.\nPart 2: Coffee Social\, Curated Tours by Robert Hightower — September 20\, 10AM to 6PM\nA more intimate opportunity to engage with Robert directly. Enjoy coffee\, take a private tour of the collection\, and join a Q&A session where Robert will discuss the work\, its meaning\, and the journey behind it.\n\n>
URL:https://111minnagallery.com/event/one-time-talker-a-solo-show-by-robert-hightower/
LOCATION:Entire Venue\, 111 Minna Street\, San Francisco\, CA\, 94105\, United States
CATEGORIES:Art Event,Eventbrite,Public Event
ATTACH;FMTTYPE=image/jpeg:https://111minnagallery.com/wp-content/uploads/2025/07/One-Time-Talker.jpeg
GEO:37.7873057;-122.3993712
X-APPLE-STRUCTURED-LOCATION;VALUE=URI;X-ADDRESS=Entire Venue 111 Minna Street San Francisco CA 94105 United States;X-APPLE-RADIUS=500;X-TITLE=111 Minna Street:geo:-122.3993712,37.7873057
END:VEVENT
BEGIN:VEVENT
DTSTART;TZID=America/Los_Angeles:20250920T100000
DTEND;TZID=America/Los_Angeles:20250920T180000
DTSTAMP:20260424T025556
CREATED:20250805T195618Z
LAST-MODIFIED:20250805T195618Z
UID:10003083-1758362400-1758391200@111minnagallery.com
SUMMARY:One Time Talker: Coffee Social\, Curated Tours by Robert Hightower
DESCRIPTION:Robert Hightower’s breakout solo show\, where silence ends\, trauma speaks\, and the truth shows up raw\, honest\, and loud in paint. \nAfter nearly three years away from solo exhibitions\, Robert Hightower returns with his most personal body of work to date. One Time Talker is a visual reckoning—an exploration of silence\, survival\, and the emotional weight of what goes unsaid. These paintings are not just art objects; they are confessions. Each one traces back to moments where Robert learned to stay quiet\, often through force\, fear\, or the belief that speaking up came with consequences.\n \nThe title itself is rooted in truth. “One Time Talker” was the name of a wooden paddle used as discipline in his childhood\, a tool that made it clear: you only get told once. That legacy of silence lingers in the work\, but so does the resistance. This isn’t a tidy comeback. It’s raw\, unfiltered\, and urgent. For anyone who’s ever been told to hold it in\, this show is an invitation to let it out. This is what it looks like when silence finally breaks. \nThis is a two-part event: \n\nPart 1: Opening Night Celebration — September 19\, 5 PM to 11 PM\nAn evening to experience the full collection\, connect\, and celebrate the launch of this deeply personal show.\nPart 2: Coffee Social\, Curated Tours by Robert Hightower — September 20\, 10AM to 6PM\nA more intimate opportunity to engage with Robert directly. Enjoy coffee\, take a private tour of the collection\, and join a Q&A session where Robert will discuss the work\, its meaning\, and the journey behind it.\n\n>
URL:https://111minnagallery.com/event/one-time-talker-a-solo-show-by-robert-hightower-2/
LOCATION:Entire Venue\, 111 Minna Street\, San Francisco\, CA\, 94105\, United States
CATEGORIES:Art Event,Eventbrite,Public Event
ATTACH;FMTTYPE=image/jpeg:https://111minnagallery.com/wp-content/uploads/2025/07/One-Time-Talker.jpeg
GEO:37.7873057;-122.3993712
X-APPLE-STRUCTURED-LOCATION;VALUE=URI;X-ADDRESS=Entire Venue 111 Minna Street San Francisco CA 94105 United States;X-APPLE-RADIUS=500;X-TITLE=111 Minna Street:geo:-122.3993712,37.7873057
END:VEVENT
BEGIN:VEVENT
DTSTART;TZID=America/Los_Angeles:20250927T190000
DTEND;TZID=America/Los_Angeles:20250927T233000
DTSTAMP:20260424T025556
CREATED:20250903T214751Z
LAST-MODIFIED:20250917T103341Z
UID:10004022-1758999600-1759015800@111minnagallery.com
SUMMARY:YEAR OF THE SNAKE | Opening Reception
DESCRIPTION:Year or the Snake is an exhibition inspired by the serpent\, a timeless representation of transformation. \nHonoring the lunar year animal\, artists in this group exhibition will explore the symbolism of renewal\, mystery\, and power through a collection of snake-inspired works. This marks the third collaborative exhibition between 111 Minna Gallery and Seventh Son Tattoo\, bringing together tattoo artistry and contemporary fine art in one striking showcase. \n \nThis collection\, curated by Seventh Son Tattoo owner / tattoo artist Luke Stewart\, features illustrations and paintings crafted by over 40 local and international tattoo artists from the shop’s network. It follows the now-established tradition of celebrating the Chinese zodiac\, with the two previous shows “Year of the Dragon” (2024) and “Year of the Tiger” (2023) having been hugely successful. \nAbout Seventh Son Tattoo \nSeventh Son Tattoo is one of San Francisco’s premier custom tattoo shops\, providing high quality tattooing in a relaxed atmosphere. Seventh Son has been a fixture of San Francisco’s vibrant SOMA district for over ten years\, with a clientele made up of locals and international travelers alike. Seventh Son strives to provide a friendly\, approachable\, professional atmosphere to match the high level of tattooing that has become their signature. Their artists are skilled in a variety of tattoo styles\, specializing in traditional Japanese\, black & grey\, floral\, biomechanical\, ornamental and illustrative. They have become known for their distinct approach to tattooing\, which elevates creative expression while simultaneously honoring tradition. \nwww.seventhsontattoo.com \nSeventh Son Tattoo is located at 765 Clementina St.\, San Francisco\, CA \nYear of the Snake artists include: \nShawn Barber\, Henry Lewis\, Luke Stewart\, Amanda Lynn\, Grime\, Christina Ramos\, Curtis Burgess\, Waterstreetphantom\, Bryan Randolph\nJordan Cole Wright\, Jeff Steel\, Jared Smith\, Victor Webster\, Joey Armstrong\, Jano Navarrete\, Lango Olivera\, Jeff Croci\, Kohen Meyers\, Andre Malcolm\, Zac Scheinbaum\, Bill Canalas\, Daniela Sagel\, Gordo\, Paul Dobleman\, Shun Nakatsuru\, Isabella Stabile\, Daryl Jimmie\, Ben Cheese\, Matt Leibo\, Jason Kundell\, James Fernella\, Theo Mindell\, Hendo\, Nick Alverez\, George Campise\, Joel Ang \nEvent Info:\nWhat: ‘Year Of The Snake’ Opening Night Reception\nMusic by: DJ KeyBumps – @htlee666\nWhen: Saturday 09/27/25 from 5:00 PM – LATE\nContact: dyoungv@111minnagallery.com\nArt Coming Down: Jan. 16 2026\nWhere: 111 Minna Gallery at 111 Minna St\, San Francisco\, CA 94105 \nAbout 111 Minna Gallery \nOver its 30 years\, 111 Minna Gallery has been recognized as: Finalist in Best Art Gallery 2024\, Winner: Best Art Gallery (2019 & 2018/SF Weekly)\, Winner of the Small Business of the Year Award (2018/SF Chamber of Commerce)\, and Winner of the 2018 Small Business of The Year Award at The Ebbies. 111Minna continues to be a mainstay for art and culture in the bay area. After recent renovations\, 111 Minna Gallery is looking more beautiful than ever and we look forward to making this space as welcoming and creative as it’s ever been. 111 Minna Gallery would like to thank all of its followers\, supporters\, and fans. You are all family to us and we are excited to bring you a solid lineup as we regather together at a San Francisco staple of community art and culture. 111 Minna Gallery is a 21+ venue.
URL:https://111minnagallery.com/event/year-of-the-snake-opening-reception/
LOCATION:Entire Venue\, 111 Minna Street\, San Francisco\, CA\, 94105\, United States
CATEGORIES:Art Event,Public Event
ATTACH;FMTTYPE=image/jpeg:https://111minnagallery.com/wp-content/uploads/2025/09/Year-of-the-Snake-Opening-Flyer-9-25-.jpeg
GEO:37.7873057;-122.3993712
X-APPLE-STRUCTURED-LOCATION;VALUE=URI;X-ADDRESS=Entire Venue 111 Minna Street San Francisco CA 94105 United States;X-APPLE-RADIUS=500;X-TITLE=111 Minna Street:geo:-122.3993712,37.7873057
END:VEVENT
END:VCALENDAR